BEGIN:VCALENDAR
VERSION:2.0
PRODID:-//Anderson Equine - ECPv6.15.20//NONSGML v1.0//EN
CALSCALE:GREGORIAN
METHOD:PUBLISH
X-WR-CALNAME:Anderson Equine
X-ORIGINAL-URL:https://andersonequinellc.com
X-WR-CALDESC:Events for Anderson Equine
REFRESH-INTERVAL;VALUE=DURATION:PT1H
X-Robots-Tag:noindex
X-PUBLISHED-TTL:PT1H
BEGIN:VTIMEZONE
TZID:America/New_York
BEGIN:DAYLIGHT
TZOFFSETFROM:-0500
TZOFFSETTO:-0400
TZNAME:EDT
DTSTART:20250309T070000
END:DAYLIGHT
BEGIN:STANDARD
TZOFFSETFROM:-0400
TZOFFSETTO:-0500
TZNAME:EST
DTSTART:20251102T060000
END:STANDARD
BEGIN:DAYLIGHT
TZOFFSETFROM:-0500
TZOFFSETTO:-0400
TZNAME:EDT
DTSTART:20260308T070000
END:DAYLIGHT
BEGIN:STANDARD
TZOFFSETFROM:-0400
TZOFFSETTO:-0500
TZNAME:EST
DTSTART:20261101T060000
END:STANDARD
BEGIN:DAYLIGHT
TZOFFSETFROM:-0500
TZOFFSETTO:-0400
TZNAME:EDT
DTSTART:20270314T070000
END:DAYLIGHT
BEGIN:STANDARD
TZOFFSETFROM:-0400
TZOFFSETTO:-0500
TZNAME:EST
DTSTART:20271107T060000
END:STANDARD
END:VTIMEZONE
BEGIN:VEVENT
DTSTART;VALUE=DATE:20260319
DTEND;VALUE=DATE:20260320
DTSTAMP:20260424T120329
CREATED:20260319T171916Z
LAST-MODIFIED:20260319T171916Z
UID:4971-1773878400-1773964799@andersonequinellc.com
SUMMARY:Anderson Equine Client Outing
DESCRIPTION:Time to take a break from the saddle and get onto the silks! Anderson Equine is taking all interested clients to an Aerial class. More details to follow.
URL:https://andersonequinellc.com/event/anderson-equine-client-outing/
LOCATION:New Hampshire
END:VEVENT
BEGIN:VEVENT
DTSTART;TZID=America/New_York:20260329T080000
DTEND;TZID=America/New_York:20260329T170000
DTSTAMP:20260424T120329
CREATED:20260319T171058Z
LAST-MODIFIED:20260319T171058Z
UID:4965-1774771200-1774803600@andersonequinellc.com
SUMMARY:Liberty Clinic with Danielle Lefebvre
DESCRIPTION:
URL:https://andersonequinellc.com/event/liberty-clinic-with-danielle-lefebvre-2/
LOCATION:Darkside Equestrian\, 135 B Sam Chikan Rd\, Griswold\, CT
END:VEVENT
END:VCALENDAR