BEGIN:VCALENDAR
VERSION:2.0
PRODID:-//Anderson Equine - ECPv6.15.20//NONSGML v1.0//EN
CALSCALE:GREGORIAN
METHOD:PUBLISH
X-WR-CALNAME:Anderson Equine
X-ORIGINAL-URL:https://andersonequinellc.com
X-WR-CALDESC:Events for Anderson Equine
REFRESH-INTERVAL;VALUE=DURATION:PT1H
X-Robots-Tag:noindex
X-PUBLISHED-TTL:PT1H
BEGIN:VTIMEZONE
TZID:America/New_York
BEGIN:DAYLIGHT
TZOFFSETFROM:-0500
TZOFFSETTO:-0400
TZNAME:EDT
DTSTART:20190310T070000
END:DAYLIGHT
BEGIN:STANDARD
TZOFFSETFROM:-0400
TZOFFSETTO:-0500
TZNAME:EST
DTSTART:20191103T060000
END:STANDARD
BEGIN:DAYLIGHT
TZOFFSETFROM:-0500
TZOFFSETTO:-0400
TZNAME:EDT
DTSTART:20200308T070000
END:DAYLIGHT
BEGIN:STANDARD
TZOFFSETFROM:-0400
TZOFFSETTO:-0500
TZNAME:EST
DTSTART:20201101T060000
END:STANDARD
BEGIN:DAYLIGHT
TZOFFSETFROM:-0500
TZOFFSETTO:-0400
TZNAME:EDT
DTSTART:20210314T070000
END:DAYLIGHT
BEGIN:STANDARD
TZOFFSETFROM:-0400
TZOFFSETTO:-0500
TZNAME:EST
DTSTART:20211107T060000
END:STANDARD
END:VTIMEZONE
BEGIN:VEVENT
DTSTART;VALUE=DATE:20200405
DTEND;VALUE=DATE:20200406
DTSTAMP:20260425T102728
CREATED:20200206T175233Z
LAST-MODIFIED:20200323T165543Z
UID:4539-1586044800-1586131199@andersonequinellc.com
SUMMARY:AEL Dana Hall School Show-Canceled
DESCRIPTION:
URL:https://andersonequinellc.com/event/ael-dana-hall-school-show/
LOCATION:Dana Hall\, Wellesley\, Massachusetts
END:VEVENT
BEGIN:VEVENT
DTSTART;VALUE=DATE:20200324
DTEND;VALUE=DATE:20200519
DTSTAMP:20260425T102728
CREATED:20200401T200316Z
LAST-MODIFIED:20200506T185841Z
UID:4613-1585008000-1589846399@andersonequinellc.com
SUMMARY:No Lessons (Canceled due to COVID-19)
DESCRIPTION:
URL:https://andersonequinellc.com/event/no-lessons-canceled-due-to-covid-19/
END:VEVENT
BEGIN:VEVENT
DTSTART;VALUE=DATE:20200322
DTEND;VALUE=DATE:20200323
DTSTAMP:20260425T102728
CREATED:20200206T174625Z
LAST-MODIFIED:20200323T165524Z
UID:4534-1584835200-1584921599@andersonequinellc.com
SUMMARY:AEL Faith Hill Show-Canceled
DESCRIPTION:
URL:https://andersonequinellc.com/event/ael-faith-hill-show/
LOCATION:Faith Hill\, 2056 Division RD\, East Greenwich\, RI\, 02818\, United States
END:VEVENT
BEGIN:VEVENT
DTSTART;VALUE=DATE:20200201
DTEND;VALUE=DATE:20200202
DTSTAMP:20260425T102728
CREATED:20200114T173830Z
LAST-MODIFIED:20200114T173934Z
UID:4520-1580515200-1580601599@andersonequinellc.com
SUMMARY:No Lessons Today
DESCRIPTION:
URL:https://andersonequinellc.com/event/no-lessons-today/
END:VEVENT
END:VCALENDAR