BEGIN:VCALENDAR
VERSION:2.0
PRODID:-//Anderson Equine - ECPv6.15.20//NONSGML v1.0//EN
CALSCALE:GREGORIAN
METHOD:PUBLISH
X-ORIGINAL-URL:https://andersonequinellc.com
X-WR-CALDESC:Events for Anderson Equine
REFRESH-INTERVAL;VALUE=DURATION:PT1H
X-Robots-Tag:noindex
X-PUBLISHED-TTL:PT1H
BEGIN:VTIMEZONE
TZID:America/New_York
BEGIN:DAYLIGHT
TZOFFSETFROM:-0500
TZOFFSETTO:-0400
TZNAME:EDT
DTSTART:20250309T070000
END:DAYLIGHT
BEGIN:STANDARD
TZOFFSETFROM:-0400
TZOFFSETTO:-0500
TZNAME:EST
DTSTART:20251102T060000
END:STANDARD
BEGIN:DAYLIGHT
TZOFFSETFROM:-0500
TZOFFSETTO:-0400
TZNAME:EDT
DTSTART:20260308T070000
END:DAYLIGHT
BEGIN:STANDARD
TZOFFSETFROM:-0400
TZOFFSETTO:-0500
TZNAME:EST
DTSTART:20261101T060000
END:STANDARD
BEGIN:DAYLIGHT
TZOFFSETFROM:-0500
TZOFFSETTO:-0400
TZNAME:EDT
DTSTART:20270314T070000
END:DAYLIGHT
BEGIN:STANDARD
TZOFFSETFROM:-0400
TZOFFSETTO:-0500
TZNAME:EST
DTSTART:20271107T060000
END:STANDARD
END:VTIMEZONE
BEGIN:VEVENT
DTSTART;TZID=America/New_York:20260612T090000
DTEND;TZID=America/New_York:20260614T170000
DTSTAMP:20260425T102731
CREATED:20260120T155108Z
LAST-MODIFIED:20260302T010045Z
UID:4909-1781254800-1781456400@andersonequinellc.com
SUMMARY:Rider Biomechanics Clinic with Kendra Clarke
DESCRIPTION:Kendra focuses “on horse and rider biomechanics and the use of balls\, bands\, tools\, and imagery to help change neurocognitive behaviors in horse & riders.” This clinic is open to all levels and disciplines and can be focused on challenges the rider is facing or challenges the horse is facing.
URL:https://andersonequinellc.com/event/centered-riding-rider-biomechanics-clinic-with-kendra-clarke/
END:VEVENT
BEGIN:VEVENT
DTSTART;TZID=America/New_York:20260724T080000
DTEND;TZID=America/New_York:20260726T170000
DTSTAMP:20260425T102732
CREATED:20260410T190130Z
LAST-MODIFIED:20260410T190130Z
UID:4984-1784880000-1785085200@andersonequinellc.com
SUMMARY:Building Confidence Through Effective Groundwork
DESCRIPTION:Join Kristin Anderson in an experiential clinic focused on groundwork\, mindfulness\, and partnership-building to deepen connection\, improve communication\, and strengthen trust between horse and handler.
URL:https://andersonequinellc.com/event/building-confidence-through-effective-groundwork/
LOCATION:Driftwood Stables\, Northfield\, New Hampshire
END:VEVENT
BEGIN:VEVENT
DTSTART;TZID=America/New_York:20260919T090000
DTEND;TZID=America/New_York:20260920T170000
DTSTAMP:20260425T102732
CREATED:20260319T172705Z
LAST-MODIFIED:20260319T172705Z
UID:4976-1789808400-1789923600@andersonequinellc.com
SUMMARY:Liberty Centered Clinic with Danielle Lefebvre
DESCRIPTION:Details and sign up to come soon.
URL:https://andersonequinellc.com/event/liberty-centered-clinic-with-danielle-lefebvre/
END:VEVENT
END:VCALENDAR