BEGIN:VCALENDAR
VERSION:2.0
PRODID:-//Anderson Equine - ECPv6.15.20//NONSGML v1.0//EN
CALSCALE:GREGORIAN
METHOD:PUBLISH
X-WR-CALNAME:Anderson Equine
X-ORIGINAL-URL:https://andersonequinellc.com
X-WR-CALDESC:Events for Anderson Equine
REFRESH-INTERVAL;VALUE=DURATION:PT1H
X-Robots-Tag:noindex
X-PUBLISHED-TTL:PT1H
BEGIN:VTIMEZONE
TZID:America/New_York
BEGIN:DAYLIGHT
TZOFFSETFROM:-0500
TZOFFSETTO:-0400
TZNAME:EDT
DTSTART:20190310T070000
END:DAYLIGHT
BEGIN:STANDARD
TZOFFSETFROM:-0400
TZOFFSETTO:-0500
TZNAME:EST
DTSTART:20191103T060000
END:STANDARD
BEGIN:DAYLIGHT
TZOFFSETFROM:-0500
TZOFFSETTO:-0400
TZNAME:EDT
DTSTART:20200308T070000
END:DAYLIGHT
BEGIN:STANDARD
TZOFFSETFROM:-0400
TZOFFSETTO:-0500
TZNAME:EST
DTSTART:20201101T060000
END:STANDARD
BEGIN:DAYLIGHT
TZOFFSETFROM:-0500
TZOFFSETTO:-0400
TZNAME:EDT
DTSTART:20210314T070000
END:DAYLIGHT
BEGIN:STANDARD
TZOFFSETFROM:-0400
TZOFFSETTO:-0500
TZNAME:EST
DTSTART:20211107T060000
END:STANDARD
BEGIN:DAYLIGHT
TZOFFSETFROM:-0500
TZOFFSETTO:-0400
TZNAME:EDT
DTSTART:20220313T070000
END:DAYLIGHT
BEGIN:STANDARD
TZOFFSETFROM:-0400
TZOFFSETTO:-0500
TZNAME:EST
DTSTART:20221106T060000
END:STANDARD
BEGIN:DAYLIGHT
TZOFFSETFROM:-0500
TZOFFSETTO:-0400
TZNAME:EDT
DTSTART:20230312T070000
END:DAYLIGHT
BEGIN:STANDARD
TZOFFSETFROM:-0400
TZOFFSETTO:-0500
TZNAME:EST
DTSTART:20231105T060000
END:STANDARD
BEGIN:DAYLIGHT
TZOFFSETFROM:-0500
TZOFFSETTO:-0400
TZNAME:EDT
DTSTART:20240310T070000
END:DAYLIGHT
BEGIN:STANDARD
TZOFFSETFROM:-0400
TZOFFSETTO:-0500
TZNAME:EST
DTSTART:20241103T060000
END:STANDARD
BEGIN:DAYLIGHT
TZOFFSETFROM:-0500
TZOFFSETTO:-0400
TZNAME:EDT
DTSTART:20250309T070000
END:DAYLIGHT
BEGIN:STANDARD
TZOFFSETFROM:-0400
TZOFFSETTO:-0500
TZNAME:EST
DTSTART:20251102T060000
END:STANDARD
BEGIN:DAYLIGHT
TZOFFSETFROM:-0500
TZOFFSETTO:-0400
TZNAME:EDT
DTSTART:20260308T070000
END:DAYLIGHT
BEGIN:STANDARD
TZOFFSETFROM:-0400
TZOFFSETTO:-0500
TZNAME:EST
DTSTART:20261101T060000
END:STANDARD
BEGIN:DAYLIGHT
TZOFFSETFROM:-0500
TZOFFSETTO:-0400
TZNAME:EDT
DTSTART:20270314T070000
END:DAYLIGHT
BEGIN:STANDARD
TZOFFSETFROM:-0400
TZOFFSETTO:-0500
TZNAME:EST
DTSTART:20271107T060000
END:STANDARD
END:VTIMEZONE
BEGIN:VEVENT
DTSTART;TZID=America/New_York:20260612T090000
DTEND;TZID=America/New_York:20260614T170000
DTSTAMP:20260425T120221
CREATED:20260120T155108Z
LAST-MODIFIED:20260302T010045Z
UID:4909-1781254800-1781456400@andersonequinellc.com
SUMMARY:Rider Biomechanics Clinic with Kendra Clarke
DESCRIPTION:Kendra focuses “on horse and rider biomechanics and the use of balls\, bands\, tools\, and imagery to help change neurocognitive behaviors in horse & riders.” This clinic is open to all levels and disciplines and can be focused on challenges the rider is facing or challenges the horse is facing.
URL:https://andersonequinellc.com/event/centered-riding-rider-biomechanics-clinic-with-kendra-clarke/
LOCATION:New Hampshire
END:VEVENT
BEGIN:VEVENT
DTSTART;TZID=America/New_York:20260608T080000
DTEND;TZID=America/New_York:20260609T170000
DTSTAMP:20260425T120221
CREATED:20260319T172420Z
LAST-MODIFIED:20260319T172420Z
UID:4973-1780905600-1781024400@andersonequinellc.com
SUMMARY:Tik and Sinead Maynard Clinic
DESCRIPTION:
URL:https://andersonequinellc.com/event/tik-and-sinead-maynard-clinic/
LOCATION:Wallnut Hollow Farm\, 40 Walnut Hollow Farm\, Amherst\, MA\, 03031
END:VEVENT
BEGIN:VEVENT
DTSTART;TZID=America/New_York:20260516T120000
DTEND;TZID=America/New_York:20260516T160000
DTSTAMP:20260425T120221
CREATED:20260328T192603Z
LAST-MODIFIED:20260328T192603Z
UID:4980-1778932800-1778947200@andersonequinellc.com
SUMMARY:Anderson Equine Outing
DESCRIPTION:Time to take a break from the saddle and get onto the silks! Anderson Equine is taking all interested clients to an Aerial class. More details to follow.
URL:https://andersonequinellc.com/event/anderson-equine-outing/
LOCATION:New Hampshire
END:VEVENT
BEGIN:VEVENT
DTSTART;TZID=America/New_York:20260505T080000
DTEND;TZID=America/New_York:20260507T170000
DTSTAMP:20260425T120221
CREATED:20260319T171411Z
LAST-MODIFIED:20260319T171411Z
UID:4968-1777968000-1778173200@andersonequinellc.com
SUMMARY:Deepening the Bond Clinic with Heidi Potter
DESCRIPTION:
URL:https://andersonequinellc.com/event/deepening-the-bond-clinic-with-heidi-potter/
LOCATION:Cedarwood Farm\, Ipswich\, MA
END:VEVENT
BEGIN:VEVENT
DTSTART;TZID=America/New_York:20260501T090000
DTEND;TZID=America/New_York:20260503T170000
DTSTAMP:20260425T120221
CREATED:20260120T154506Z
LAST-MODIFIED:20260302T010206Z
UID:4907-1777626000-1777827600@andersonequinellc.com
SUMMARY:Liberty Centered Clinic with Kaleigh Marie
DESCRIPTION:“These clinics focus on developing an in depth understanding of the Principles of Liberty Work to help you discover how to use these tools to unlock new levels of connection and performance. Work one on one with Kaleigh Marie to define your goals and take a deep dive into the setting the path to achieving them in a way that prioritizes building the relationship you share with your horse.”
URL:https://andersonequinellc.com/event/liberty-centered-clinic-with-kayleigh-marie/
LOCATION:Boston Hunt & Pace\, 2 Taylor Road\, Stow\, Massachusetts\, 01775
END:VEVENT
BEGIN:VEVENT
DTSTART;TZID=America/New_York:20260329T080000
DTEND;TZID=America/New_York:20260329T170000
DTSTAMP:20260425T120221
CREATED:20260319T171058Z
LAST-MODIFIED:20260319T171058Z
UID:4965-1774771200-1774803600@andersonequinellc.com
SUMMARY:Liberty Clinic with Danielle Lefebvre
DESCRIPTION:
URL:https://andersonequinellc.com/event/liberty-clinic-with-danielle-lefebvre-2/
LOCATION:Darkside Equestrian\, 135 B Sam Chikan Rd\, Griswold\, CT
END:VEVENT
BEGIN:VEVENT
DTSTART;VALUE=DATE:20260319
DTEND;VALUE=DATE:20260320
DTSTAMP:20260425T120221
CREATED:20260319T171916Z
LAST-MODIFIED:20260319T171916Z
UID:4971-1773878400-1773964799@andersonequinellc.com
SUMMARY:Anderson Equine Client Outing
DESCRIPTION:Time to take a break from the saddle and get onto the silks! Anderson Equine is taking all interested clients to an Aerial class. More details to follow.
URL:https://andersonequinellc.com/event/anderson-equine-client-outing/
LOCATION:New Hampshire
END:VEVENT
BEGIN:VEVENT
DTSTART;VALUE=DATE:20251106
DTEND;VALUE=DATE:20251110
DTSTAMP:20260425T120221
CREATED:20250916T180945Z
LAST-MODIFIED:20250916T180945Z
UID:4893-1762387200-1762732799@andersonequinellc.com
SUMMARY:Massachusetts Equine Affaire
DESCRIPTION:
URL:https://andersonequinellc.com/event/massachusetts-equine-affaire/
LOCATION:Eastern States Exposition\, 1305 Memorial Ave\, West Springfield\, 01089
END:VEVENT
BEGIN:VEVENT
DTSTART;VALUE=DATE:20251101
DTEND;VALUE=DATE:20251103
DTSTAMP:20260425T120221
CREATED:20250916T180601Z
LAST-MODIFIED:20250916T180601Z
UID:4891-1761955200-1762127999@andersonequinellc.com
SUMMARY:Liberty Clinic with Danielle Lefebvre
DESCRIPTION:
URL:https://andersonequinellc.com/event/liberty-clinic-with-danielle-lefebvre/
LOCATION:Pond View Equestrian Center\, Wakefield Road\, Burrillville\, United States
END:VEVENT
BEGIN:VEVENT
DTSTART;VALUE=DATE:20251003
DTEND;VALUE=DATE:20251006
DTSTAMP:20260425T120222
CREATED:20250916T180405Z
LAST-MODIFIED:20250916T180405Z
UID:4888-1759449600-1759708799@andersonequinellc.com
SUMMARY:Combined Intensive Clinic with Kaleigh Marie and Brendan Wise
DESCRIPTION:
URL:https://andersonequinellc.com/event/combined-intensive-clinic-with-kaleigh-marie-and-brendan-wise/
LOCATION:Walnut Hill Farm\, 86 Walnut Street\, Plainville\, MA\, 02762\, United States
END:VEVENT
BEGIN:VEVENT
DTSTART;VALUE=DATE:20250912
DTEND;VALUE=DATE:20250915
DTSTAMP:20260425T120222
CREATED:20250916T180006Z
LAST-MODIFIED:20250916T180006Z
UID:4884-1757635200-1757894399@andersonequinellc.com
SUMMARY:Braveheart Beast Liberty Centered Clinic
DESCRIPTION:
URL:https://andersonequinellc.com/event/braveheart-beast-liberty-centered-clinic/
LOCATION:Pond View Equestrian Center\, Wakefield Road\, Burrillville\, United States
END:VEVENT
BEGIN:VEVENT
DTSTART;TZID=America/New_York:20220312T093000
DTEND;TZID=America/New_York:20220312T163000
DTSTAMP:20260425T120222
CREATED:20220215T152354Z
LAST-MODIFIED:20220215T152354Z
UID:4816-1647077400-1647102600@andersonequinellc.com
SUMMARY:Connection Clinic-Horse Speak & In-Hand Obstacle Play
DESCRIPTION:Join us for a day working with Heidi Potter.
URL:https://andersonequinellc.com/event/connection-clinic-horse-speak-in-hand-obstacle-play/
LOCATION:Greystone Stables\, 42 Phelps Place\, West Boylston\, MA\, United States
END:VEVENT
BEGIN:VEVENT
DTSTART;TZID=America/New_York:20220227T080000
DTEND;TZID=America/New_York:20220227T170000
DTSTAMP:20260425T120222
CREATED:20220215T152920Z
LAST-MODIFIED:20220215T152920Z
UID:4819-1645948800-1645981200@andersonequinellc.com
SUMMARY:Roddy Strange Clinic at Apple Knoll
DESCRIPTION:
URL:https://andersonequinellc.com/event/roddy-strange-clinic-at-apple-knoll/
LOCATION:Apple Knoll
END:VEVENT
BEGIN:VEVENT
DTSTART;VALUE=DATE:20211010
DTEND;VALUE=DATE:20211011
DTSTAMP:20260425T120222
CREATED:20210315T185509Z
LAST-MODIFIED:20210315T185509Z
UID:4723-1633824000-1633910399@andersonequinellc.com
SUMMARY:JH Eventing Horse Show
DESCRIPTION:
URL:https://andersonequinellc.com/event/jh-eventing-horse-show-3/
LOCATION:JH Eventing\, 64 Putnum Hill Road\, Sutton\, Massachusetts\, 01590
END:VEVENT
BEGIN:VEVENT
DTSTART;TZID=America/New_York:20210813T090000
DTEND;TZID=America/New_York:20210813T140000
DTSTAMP:20260425T120222
CREATED:20210329T145628Z
LAST-MODIFIED:20210329T145628Z
UID:4742-1628845200-1628863200@andersonequinellc.com
SUMMARY:A Day at the Barn
DESCRIPTION:A horse filled day for beginner riders ages 6-12 years. Participants will receive a riding lesson on top of learning different parts of the horse\, how to bathe a horse\, barn safety\, learn how to communicate and so much more!
URL:https://andersonequinellc.com/event/a-day-at-the-barn/
LOCATION:New Hampshire
END:VEVENT
BEGIN:VEVENT
DTSTART;VALUE=DATE:20210725
DTEND;VALUE=DATE:20210726
DTSTAMP:20260425T120222
CREATED:20210315T185410Z
LAST-MODIFIED:20210315T185410Z
UID:4721-1627171200-1627257599@andersonequinellc.com
SUMMARY:JH Eventing Horse Show
DESCRIPTION:
URL:https://andersonequinellc.com/event/jh-eventing-horse-show-2/
LOCATION:New Hampshire
END:VEVENT
BEGIN:VEVENT
DTSTART;VALUE=DATE:20210703
DTEND;VALUE=DATE:20210704
DTSTAMP:20260425T120222
CREATED:20210629T134645Z
LAST-MODIFIED:20210629T134645Z
UID:4798-1625270400-1625356799@andersonequinellc.com
SUMMARY:No Lessons- Happy 4th!
DESCRIPTION:
URL:https://andersonequinellc.com/event/no-lessons-happy-4th/
LOCATION:New Hampshire
END:VEVENT
BEGIN:VEVENT
DTSTART;VALUE=DATE:20210703
DTEND;VALUE=DATE:20210704
DTSTAMP:20260425T120222
CREATED:20210531T154635Z
LAST-MODIFIED:20210531T154635Z
UID:4790-1625270400-1625356799@andersonequinellc.com
SUMMARY:No Lessons
DESCRIPTION:
URL:https://andersonequinellc.com/event/no-lessons-4/
LOCATION:New Hampshire
END:VEVENT
BEGIN:VEVENT
DTSTART;VALUE=DATE:20210630
DTEND;VALUE=DATE:20210701
DTSTAMP:20260425T120222
CREATED:20210630T123355Z
LAST-MODIFIED:20210630T123355Z
UID:4800-1625011200-1625097599@andersonequinellc.com
SUMMARY:No Lessons- Too Hot!
DESCRIPTION:
URL:https://andersonequinellc.com/event/no-lessons-too-hot/
LOCATION:New Hampshire
END:VEVENT
BEGIN:VEVENT
DTSTART;VALUE=DATE:20210629
DTEND;VALUE=DATE:20210630
DTSTAMP:20260425T120222
CREATED:20210629T134548Z
LAST-MODIFIED:20210629T134548Z
UID:4796-1624924800-1625011199@andersonequinellc.com
SUMMARY:No Lessons Today-Too Hot!
DESCRIPTION:
URL:https://andersonequinellc.com/event/no-lessons-today-too-hot/
LOCATION:New Hampshire
END:VEVENT
BEGIN:VEVENT
DTSTART;TZID=America/New_York:20210531T120000
DTEND;TZID=America/New_York:20210531T190000
DTSTAMP:20260425T120222
CREATED:20210531T155042Z
LAST-MODIFIED:20210531T155042Z
UID:4792-1622462400-1622487600@andersonequinellc.com
SUMMARY:Apple Knoll Horse Show
DESCRIPTION:
URL:https://andersonequinellc.com/event/apple-knoll-horse-show/
LOCATION:Apple Knoll
END:VEVENT
BEGIN:VEVENT
DTSTART;VALUE=DATE:20210502
DTEND;VALUE=DATE:20210503
DTSTAMP:20260425T120222
CREATED:20210315T185325Z
LAST-MODIFIED:20210315T185325Z
UID:4719-1619913600-1619999999@andersonequinellc.com
SUMMARY:JH Eventing Horse Show
DESCRIPTION:
URL:https://andersonequinellc.com/event/jh-eventing-horse-show/
LOCATION:JH Eventing\, 64 Putnum Hill Road\, Sutton\, Massachusetts\, 01590
END:VEVENT
BEGIN:VEVENT
DTSTART;TZID=America/New_York:20210424T080000
DTEND;TZID=America/New_York:20210425T170000
DTSTAMP:20260425T120222
CREATED:20210325T140301Z
LAST-MODIFIED:20210407T165723Z
UID:4731-1619251200-1619370000@andersonequinellc.com
SUMMARY:Heidi Potter Clinic
DESCRIPTION:If you would like to attend the Heidi Potter Clinic\, please fill out the Registration Form and email to kristin@andersonequinellc.com.
URL:https://andersonequinellc.com/event/heidi-potter-clinic/
LOCATION:Anderson Equine LLC\, 2 Taylor Rd\, Stow\, MA\, 01775\, United States
END:VEVENT
BEGIN:VEVENT
DTSTART;VALUE=DATE:20210409
DTEND;VALUE=DATE:20210410
DTSTAMP:20260425T120222
CREATED:20210315T185817Z
LAST-MODIFIED:20210315T185817Z
UID:4729-1617926400-1618012799@andersonequinellc.com
SUMMARY:AEL Concord Equestrian-Virtual Horse Show
DESCRIPTION:
URL:https://andersonequinellc.com/event/ael-concord-equestrian-virtual-horse-show/
LOCATION:New Hampshire
END:VEVENT
BEGIN:VEVENT
DTSTART;VALUE=DATE:20210326
DTEND;VALUE=DATE:20210327
DTSTAMP:20260425T120222
CREATED:20210315T185715Z
LAST-MODIFIED:20210315T185715Z
UID:4727-1616716800-1616803199@andersonequinellc.com
SUMMARY:AEL Anderson Equine-Virtual Horse Show
DESCRIPTION:
URL:https://andersonequinellc.com/event/ael-anderson-equine-virtual-horse-show/
LOCATION:New Hampshire
END:VEVENT
BEGIN:VEVENT
DTSTART;VALUE=DATE:20210317
DTEND;VALUE=DATE:20210318
DTSTAMP:20260425T120222
CREATED:20210315T185210Z
LAST-MODIFIED:20210315T185210Z
UID:4716-1615939200-1616025599@andersonequinellc.com
SUMMARY:No Lessons
DESCRIPTION:
URL:https://andersonequinellc.com/event/no-lessons-3/
LOCATION:New Hampshire
END:VEVENT
BEGIN:VEVENT
DTSTART;VALUE=DATE:20210315
DTEND;VALUE=DATE:20210316
DTSTAMP:20260425T120222
CREATED:20210315T185547Z
LAST-MODIFIED:20210315T185547Z
UID:4725-1615766400-1615852799@andersonequinellc.com
SUMMARY:AEL Westford Academy- Virtual Show
DESCRIPTION:
URL:https://andersonequinellc.com/event/ael-westford-academy-virtual-show/
LOCATION:New Hampshire
END:VEVENT
BEGIN:VEVENT
DTSTART;VALUE=DATE:20210129
DTEND;VALUE=DATE:20210131
DTSTAMP:20260425T120222
CREATED:20210127T215254Z
LAST-MODIFIED:20210129T141618Z
UID:4712-1611878400-1612051199@andersonequinellc.com
SUMMARY:No Lessons- Too Cold
DESCRIPTION:
URL:https://andersonequinellc.com/event/no-lessons-too-cold/
LOCATION:New Hampshire
END:VEVENT
BEGIN:VEVENT
DTSTART;VALUE=DATE:20210101
DTEND;VALUE=DATE:20210102
DTSTAMP:20260425T120222
CREATED:20201119T181214Z
LAST-MODIFIED:20201119T181748Z
UID:4681-1609459200-1609545599@andersonequinellc.com
SUMMARY:New Years Day- No Lessons
DESCRIPTION:
URL:https://andersonequinellc.com/event/new-years-day-no-lessons/
LOCATION:New Hampshire
END:VEVENT
BEGIN:VEVENT
DTSTART;VALUE=DATE:20201231
DTEND;VALUE=DATE:20210101
DTSTAMP:20260425T120222
CREATED:20201119T180958Z
LAST-MODIFIED:20201119T180958Z
UID:4677-1609372800-1609459199@andersonequinellc.com
SUMMARY:New Years Eve- No Lessons
DESCRIPTION:
URL:https://andersonequinellc.com/event/new-years-eve-no-lessons/
LOCATION:New Hampshire
END:VEVENT
END:VCALENDAR