BEGIN:VCALENDAR
VERSION:2.0
PRODID:-//Anderson Equine - ECPv6.15.20//NONSGML v1.0//EN
CALSCALE:GREGORIAN
METHOD:PUBLISH
X-WR-CALNAME:Anderson Equine
X-ORIGINAL-URL:https://andersonequinellc.com
X-WR-CALDESC:Events for Anderson Equine
REFRESH-INTERVAL;VALUE=DURATION:PT1H
X-Robots-Tag:noindex
X-PUBLISHED-TTL:PT1H
BEGIN:VTIMEZONE
TZID:America/New_York
BEGIN:DAYLIGHT
TZOFFSETFROM:-0500
TZOFFSETTO:-0400
TZNAME:EDT
DTSTART:20250309T070000
END:DAYLIGHT
BEGIN:STANDARD
TZOFFSETFROM:-0400
TZOFFSETTO:-0500
TZNAME:EST
DTSTART:20251102T060000
END:STANDARD
BEGIN:DAYLIGHT
TZOFFSETFROM:-0500
TZOFFSETTO:-0400
TZNAME:EDT
DTSTART:20260308T070000
END:DAYLIGHT
BEGIN:STANDARD
TZOFFSETFROM:-0400
TZOFFSETTO:-0500
TZNAME:EST
DTSTART:20261101T060000
END:STANDARD
BEGIN:DAYLIGHT
TZOFFSETFROM:-0500
TZOFFSETTO:-0400
TZNAME:EDT
DTSTART:20270314T070000
END:DAYLIGHT
BEGIN:STANDARD
TZOFFSETFROM:-0400
TZOFFSETTO:-0500
TZNAME:EST
DTSTART:20271107T060000
END:STANDARD
END:VTIMEZONE
BEGIN:VEVENT
DTSTART;TZID=America/New_York:20260516T120000
DTEND;TZID=America/New_York:20260516T160000
DTSTAMP:20260424T133644
CREATED:20260328T192603Z
LAST-MODIFIED:20260328T192603Z
UID:4980-1778932800-1778947200@andersonequinellc.com
SUMMARY:Anderson Equine Outing
DESCRIPTION:Time to take a break from the saddle and get onto the silks! Anderson Equine is taking all interested clients to an Aerial class. More details to follow.
URL:https://andersonequinellc.com/event/anderson-equine-outing/
LOCATION:New Hampshire
END:VEVENT
END:VCALENDAR